BEGIN:VCALENDAR
VERSION:2.0
PRODID:-//Alice Barba Cours de Yoga - ECPv6.3.1//NONSGML v1.0//EN
CALSCALE:GREGORIAN
METHOD:PUBLISH
X-WR-CALNAME:Alice Barba Cours de Yoga
X-ORIGINAL-URL:https://yoga-ain-alicebarba.fr
X-WR-CALDESC:évènements pour Alice Barba Cours de Yoga
REFRESH-INTERVAL;VALUE=DURATION:PT1H
X-Robots-Tag:noindex
X-PUBLISHED-TTL:PT1H
BEGIN:VTIMEZONE
TZID:Europe/Paris
BEGIN:DAYLIGHT
TZOFFSETFROM:+0100
TZOFFSETTO:+0200
TZNAME:CEST
DTSTART:20200329T010000
END:DAYLIGHT
BEGIN:STANDARD
TZOFFSETFROM:+0200
TZOFFSETTO:+0100
TZNAME:CET
DTSTART:20201025T010000
END:STANDARD
BEGIN:DAYLIGHT
TZOFFSETFROM:+0100
TZOFFSETTO:+0200
TZNAME:CEST
DTSTART:20210328T010000
END:DAYLIGHT
BEGIN:STANDARD
TZOFFSETFROM:+0200
TZOFFSETTO:+0100
TZNAME:CET
DTSTART:20211031T010000
END:STANDARD
END:VTIMEZONE
BEGIN:VEVENT
DTSTART;TZID=Europe/Paris:20211212T090000
DTEND;TZID=Europe/Paris:20211212T120000
DTSTAMP:20260423T122214
CREATED:20211118T165000Z
LAST-MODIFIED:20211118T165000Z
UID:2135-1639299600-1639310400@yoga-ain-alicebarba.fr
SUMMARY:stage : Mobilité colonne vertébrale
DESCRIPTION:L’association Hatha Yoga Meximieux vous convie à une matinée yoga le dimanche 12 décembre 2021 de 9h00 à 12h00\, dans la salle équilibre\, maison des arts martiaux à Meximieux. Elle sera animée moi même et Matthieu Mohr.
URL:https://yoga-ain-alicebarba.fr/event/stage-mobilite-colonne-vertebrale/
CATEGORIES:stage
END:VEVENT
BEGIN:VEVENT
DTSTART;TZID=Europe/Paris:20210228T093000
DTEND;TZID=Europe/Paris:20210228T120000
DTSTAMP:20260423T122214
CREATED:20200807T123830Z
LAST-MODIFIED:20200807T123830Z
UID:1336-1614504600-1614513600@yoga-ain-alicebarba.fr
SUMMARY:DIMANCHE EN YOGA : Se réveiller avec le printemps
DESCRIPTION:Pour un travail en profondeur \nSEANCE LONGUE 2h30 – \n1 : Accueillir l’automne – 4 octobre \n2 : Apprivoiser l’hiver – 29 novembre \n3 : Se réveiller avec le printemps – 28 février \n4 : Vive l’été ! – 27 juin \nL’atelier se déroule comme une longue séance de cours. Avec du temps pour les différentes pratiques (postures – asanas\, respiration – pranayama\, relaxation). \nCes cours sont une occasion de pratiquer intensément ensemble et de véritablement se mettre en état de yoga pour une empreinte profonde. \nTarif : 25 euros
URL:https://yoga-ain-alicebarba.fr/event/dimanche-en-yoga-se-reveiller-avec-le-printemps/
END:VEVENT
BEGIN:VEVENT
DTSTART;TZID=Europe/Paris:20201129T093000
DTEND;TZID=Europe/Paris:20201129T120000
DTSTAMP:20260423T122214
CREATED:20200807T123623Z
LAST-MODIFIED:20200807T123623Z
UID:1333-1606642200-1606651200@yoga-ain-alicebarba.fr
SUMMARY:DIMANCHE EN YOGA : Apprivoiser l'hiver
DESCRIPTION:Pour un travail en profondeur \nSEANCE LONGUE 2h30 – \n1 : Accueillir l’automne – 4 octobre \n2 : Apprivoiser l’hiver – 29 novembre \n3 : Se réveiller avec le printemps – 28 février \n4 : Vive l’été ! – 27 juin \nL’atelier se déroule comme une longue séance de cours. Avec du temps pour les différentes pratiques (postures – asanas\, respiration – pranayama\, relaxation). \nCes cours sont une occasion de pratiquer intensément ensemble et de véritablement se mettre en état de yoga pour une empreinte profonde. \nTarif : 25 euros
URL:https://yoga-ain-alicebarba.fr/event/dimanche-en-yoga-apprivoiser-lhiver/
END:VEVENT
BEGIN:VEVENT
DTSTART;TZID=Europe/Paris:20201121T140000
DTEND;TZID=Europe/Paris:20201121T170000
DTSTAMP:20260423T122214
CREATED:20200910T094318Z
LAST-MODIFIED:20200910T094423Z
UID:1586-1605967200-1605978000@yoga-ain-alicebarba.fr
SUMMARY:Yoga et féminin 1 : Deuxième printemps
DESCRIPTION:  \n 
URL:https://yoga-ain-alicebarba.fr/event/yoga-et-feminin-1-deuxieme-printemps/
END:VEVENT
BEGIN:VEVENT
DTSTART;TZID=Europe/Paris:20201004T093000
DTEND;TZID=Europe/Paris:20201004T120000
DTSTAMP:20260423T122214
CREATED:20200807T101850Z
LAST-MODIFIED:20200807T101850Z
UID:1331-1601803800-1601812800@yoga-ain-alicebarba.fr
SUMMARY:DIMANCHE EN YOGA : Accueillir l'automne
DESCRIPTION:Pour un travail en profondeur \nSEANCE LONGUE 2h30 – \n1 : Accueillir l’automne – 4 octobre \n2 : Apprivoiser l’hiver – 29 novembre \n3 : Se réveiller avec le printemps – 28 février \n4 : Vive l’été ! – 27 juin \nL’atelier se déroule comme une longue séance de cours. Avec du temps pour les différentes pratiques (postures – asanas\, respiration – pranayama\, relaxation). \nCes cours sont une occasion de pratiquer intensément ensemble et de véritablement se mettre en état de yoga pour une empreinte profonde. \nTarif : 25 euros
URL:https://yoga-ain-alicebarba.fr/event/dimanche-en-yoga-accueillir-lautomne/
CATEGORIES:Retraite
END:VEVENT
BEGIN:VEVENT
DTSTART;TZID=Europe/Paris:20200807T093000
DTEND;TZID=Europe/Paris:20200807T120000
DTSTAMP:20260423T122214
CREATED:20200807T124040Z
LAST-MODIFIED:20200807T124040Z
UID:1338-1596792600-1596801600@yoga-ain-alicebarba.fr
SUMMARY:DIMANCHE EN YOGA : Vive l'été !
DESCRIPTION:Pour un travail en profondeur \nSEANCE LONGUE 2h30 – \n1 : Accueillir l’automne – 4 octobre \n2 : Apprivoiser l’hiver – 29 novembre \n3 : Se réveiller avec le printemps – 28 février \n4 : Vive l’été ! – 27 juin \nL’atelier se déroule comme une longue séance de cours. Avec du temps pour les différentes pratiques (postures – asanas\, respiration – pranayama\, relaxation). \nCes cours sont une occasion de pratiquer intensément ensemble et de véritablement se mettre en état de yoga pour une empreinte profonde. \nTarif : 25 euros
URL:https://yoga-ain-alicebarba.fr/event/dimanche-en-yoga-vive-lete/
END:VEVENT
BEGIN:VEVENT
DTSTART;TZID=Europe/Paris:20200701T080000
DTEND;TZID=Europe/Paris:20200708T170000
DTSTAMP:20260423T122214
CREATED:20200415T090703Z
LAST-MODIFIED:20200415T090703Z
UID:583-1593590400-1594227600@yoga-ain-alicebarba.fr
SUMMARY:RETRAITE JUILLET
DESCRIPTION:
URL:https://yoga-ain-alicebarba.fr/event/retraite-juillet/
CATEGORIES:Retraite
END:VEVENT
END:VCALENDAR